BEGIN:VCALENDAR
VERSION:2.0
PRODID:-//Aesthetic Team - ECPv6.9.1//NONSGML v1.0//EN
CALSCALE:GREGORIAN
METHOD:PUBLISH
X-ORIGINAL-URL:https://aestheticteam.gr/el
X-WR-CALDESC:Events for Aesthetic Team
REFRESH-INTERVAL;VALUE=DURATION:PT1H
X-Robots-Tag:noindex
X-PUBLISHED-TTL:PT1H
BEGIN:VTIMEZONE
TZID:Europe/Helsinki
BEGIN:DAYLIGHT
TZOFFSETFROM:+0200
TZOFFSETTO:+0300
TZNAME:EEST
DTSTART:20250330T010000
END:DAYLIGHT
BEGIN:STANDARD
TZOFFSETFROM:+0300
TZOFFSETTO:+0200
TZNAME:EET
DTSTART:20251026T010000
END:STANDARD
END:VTIMEZONE
BEGIN:VEVENT
DTSTART;TZID=Europe/Helsinki:20250118T090000
DTEND;TZID=Europe/Helsinki:20250118T180000
DTSTAMP:20260423T135002
CREATED:20241112T063931Z
LAST-MODIFIED:20241206T175535Z
UID:57289-1737190800-1737223200@aestheticteam.gr
SUMMARY:30η Συνάντηση Noritake Greek Study Club
DESCRIPTION:30η Συνάντηση Noritake Greek Study Club και πρώτη συνάντηση για το 2025 (10ος χρόνος!). Μόνο για τα μέλη και κοπή πίτας το Σάββατο 18.1.2025. \nΟ Νωντας Βλαχόπουλος σε μια ημερίδα αφιερωμένη στην ψηφιακή προσέγγιση στην οδοντοτεχνική – λειτουργικότητα\, ακρίβεια και αισθητική.
URL:https://aestheticteam.gr/el/event/synantisi-noritake-greek-study-club/
CATEGORIES:Noritake Greek Study Club
ATTACH;FMTTYPE=image/png:https://aestheticteam.gr/wp-content/uploads/2024/11/Ανώνυμο-σχέδιο-5.png
END:VEVENT
END:VCALENDAR