BEGIN:VCALENDAR
VERSION:2.0
PRODID:-//Aesthetic Team - ECPv6.9.1//NONSGML v1.0//EN
CALSCALE:GREGORIAN
METHOD:PUBLISH
X-WR-CALNAME:Aesthetic Team
X-ORIGINAL-URL:https://aestheticteam.gr/el
X-WR-CALDESC:Events for Aesthetic Team
REFRESH-INTERVAL;VALUE=DURATION:PT1H
X-Robots-Tag:noindex
X-PUBLISHED-TTL:PT1H
BEGIN:VTIMEZONE
TZID:Europe/Helsinki
BEGIN:DAYLIGHT
TZOFFSETFROM:+0200
TZOFFSETTO:+0300
TZNAME:EEST
DTSTART:20250330T010000
END:DAYLIGHT
BEGIN:STANDARD
TZOFFSETFROM:+0300
TZOFFSETTO:+0200
TZNAME:EET
DTSTART:20251026T010000
END:STANDARD
END:VTIMEZONE
BEGIN:VEVENT
DTSTART;VALUE=DATE:20250326
DTEND;VALUE=DATE:20250327
DTSTAMP:20260421T150441
CREATED:20241118T213910Z
LAST-MODIFIED:20250321T122153Z
UID:57573-1742947200-1743033599@aestheticteam.gr
SUMMARY:IDS Κολωνία: (Περίπτερο Kuraray Noritake\, Hall 11.3 I Stand: E10)
DESCRIPTION:12:00 – 13:00 Mathias Fernandez Y Lombardi – What is new in Labside? \n14:00 – 15:30 MDT Giuliano Moustakis – White ZERO BAKE and PINK minimal layering CERABIEN™ Milai \n16:00 – 17:30 MDT Daniele Rondoni – Redefining laminate veneers: KATANA™ zirconia YML & speed sintering innovation
URL:https://aestheticteam.gr/el/event/ids-kolonia-periptero-kuraray-noritake-hall-11-3-i-stand-e10/
LOCATION:Koelnmesse Cologne\, Messeplatz 1\, Cologne\, Germany\, Cologne
CATEGORIES:Εκθέσεις
ATTACH;FMTTYPE=image/png:https://aestheticteam.gr/wp-content/uploads/2024/11/ids-logo-farbig.png
END:VEVENT
BEGIN:VEVENT
DTSTART;VALUE=DATE:20250326
DTEND;VALUE=DATE:20250327
DTSTAMP:20260421T150441
CREATED:20250321T122629Z
LAST-MODIFIED:20250321T122629Z
UID:60235-1742947200-1743033599@aestheticteam.gr
SUMMARY:IDS Κολωνία: (Περίπτερο HASS\, Hall 11.2  Stand: K010)
DESCRIPTION:15:00 – 16:00 MDT Andreas Chatzimpatzakis – The excellence of Amber Press
URL:https://aestheticteam.gr/el/event/ids-kolonia-periptero-hass-hall-11-2-stand-k010/
LOCATION:Koelnmesse Cologne\, Messeplatz 1\, Cologne\, Germany\, Cologne
CATEGORIES:Εκθέσεις
ATTACH;FMTTYPE=image/png:https://aestheticteam.gr/wp-content/uploads/2024/11/ids-logo-farbig.png
END:VEVENT
BEGIN:VEVENT
DTSTART;TZID=Europe/Helsinki:20250327T093000
DTEND;TZID=Europe/Helsinki:20250327T173000
DTSTAMP:20260421T150441
CREATED:20241205T232035Z
LAST-MODIFIED:20250321T122322Z
UID:59391-1743067800-1743096600@aestheticteam.gr
SUMMARY:IDS Κολωνία: (Περίπτερο Kuraray Noritake\, Hall 11.3 I Stand: E10)
DESCRIPTION:9:30-11:00 MDT Alek Aronin – Mastering Internal Staining & the NEW CERABIEN™ Milai Ceramic Application \n11:30 – 13:00 MDT Daniele Rondoni – Redefining laminate veneers: KATANA™ zirconia YML & speed sintering innovation \n14:00 – 15:00 MDT Alek Aronin – Mastering Internal Staining & the NEW CERABIEN™ Milai Ceramic Application \n16:00 – 17:30 MDT Nondas Vlachopoulos – Masterclass: Achieving Excellence in All-Ceramic Restorations
URL:https://aestheticteam.gr/el/event/ids-kolonia-periptero-kuraray-noritake-hall-11-3-i-stand-e10-2/
LOCATION:Koelnmesse Cologne\, Messeplatz 1\, Cologne\, Germany\, Cologne
CATEGORIES:Εκθέσεις
ATTACH;FMTTYPE=image/png:https://aestheticteam.gr/wp-content/uploads/2024/11/ids-logo-farbig.png
END:VEVENT
BEGIN:VEVENT
DTSTART;TZID=Europe/Helsinki:20250327T093000
DTEND;TZID=Europe/Helsinki:20250327T173000
DTSTAMP:20260421T150441
CREATED:20250321T122803Z
LAST-MODIFIED:20250321T122803Z
UID:60237-1743067800-1743096600@aestheticteam.gr
SUMMARY:IDS Κολωνία: (Περίπτερο HASS\, Hall 11.2  Stand: K010)
DESCRIPTION:11:00 – 12:00 MDT Nondas Vlachopoulos – Amberism\, a modern approach of full ceramic restorations \n13:00 – 14:00 MDT Andreas Chatzimpatzakis – The excellence of Amber Press
URL:https://aestheticteam.gr/el/event/ids-kolonia-periptero-hass-hall-11-2-stand-k010-2/
LOCATION:Koelnmesse Cologne\, Messeplatz 1\, Cologne\, Germany\, Cologne
CATEGORIES:Εκθέσεις
ATTACH;FMTTYPE=image/png:https://aestheticteam.gr/wp-content/uploads/2024/11/ids-logo-farbig.png
END:VEVENT
BEGIN:VEVENT
DTSTART;TZID=Europe/Helsinki:20250328T093000
DTEND;TZID=Europe/Helsinki:20250328T173000
DTSTAMP:20260421T150441
CREATED:20241205T232327Z
LAST-MODIFIED:20250321T122430Z
UID:59394-1743154200-1743183000@aestheticteam.gr
SUMMARY:IDS Κολωνία: (Περίπτερο Kuraray Noritake\, Hall 11.3 I Stand: E10)
DESCRIPTION:9:30-11:00 MDT Ghaith Alousi– Masterful Layering with CERABIEN™ Milai ZR: Elevating Natural Vitality and Depth \n11:30 – 13:00 MDT Nondas Vlachopoulos – CERABIEN™ Milai in Action: Elevating Aesthetics with Micro-Layering \n14:00 – 15:30 MDT Andreas Chatzimpatzakis – Adaptive Ceramic Layering: A Modern Approach to Excellence \n16:00 – 17:30 MDT Nondas Vlachopoulos – Masterclass: Achieving Excellence in All-Ceramic Restorations
URL:https://aestheticteam.gr/el/event/ids-kolonia-periptero-kuraray-noritake-hall-11-3-i-stand-e10-3/
LOCATION:Koelnmesse Cologne\, Messeplatz 1\, Cologne\, Germany\, Cologne
CATEGORIES:Εκθέσεις
ATTACH;FMTTYPE=image/png:https://aestheticteam.gr/wp-content/uploads/2024/11/ids-logo-farbig.png
END:VEVENT
BEGIN:VEVENT
DTSTART;TZID=Europe/Helsinki:20250329T093000
DTEND;TZID=Europe/Helsinki:20250329T173000
DTSTAMP:20260421T150441
CREATED:20241216T092538Z
LAST-MODIFIED:20250321T122519Z
UID:59892-1743240600-1743269400@aestheticteam.gr
SUMMARY:IDS Κολωνία: (Περίπτερο Kuraray Noritake\, Hall 11.3 I Stand: E10)
DESCRIPTION:9:30-11:00 MDT Andreas Chatzimpatzakis – Adaptive Ceramic Layering: A Modern Approach to Excellence \n11:30 – 13:00 MDT Ghaith Alousi– Masterful Layering with CERABIEN™ Milai ZR: Elevating Natural Vitality and Depth \n14:00 – 15:30 MDT Giuliano Moustakis – White ZERO BAKE and PINK minimal layering CERABIEN™ Milai
URL:https://aestheticteam.gr/el/event/ids-kolonia-periptero-kuraray-noritake-hall-11-3-i-stand-e10-4/
LOCATION:Koelnmesse Cologne\, Messeplatz 1\, Cologne\, Germany\, Cologne
CATEGORIES:Εκθέσεις
ATTACH;FMTTYPE=image/png:https://aestheticteam.gr/wp-content/uploads/2024/11/ids-logo-farbig.png
END:VEVENT
END:VCALENDAR